BEGIN:VCALENDAR
VERSION:2.0
PRODID:-//Plone.org//NONSGML plone.app.event//EN
X-WR-TIMEZONE:US/Eastern
BEGIN:VEVENT
SUMMARY:Storytime
DTSTART;TZID=US/Eastern:20251021T103000
DTEND;TZID=US/Eastern:20251021T113000
DTSTAMP:20260419T183906Z
UID:cf8ff8a15c414f99b1c54522272898eb@saas_stack_varnish:6080
ATTENDEE;CN="For children ages 3-5 and their guardians.";ROLE=REQ-PARTICIP
 ANT:For children ages 3-5 and their guardians.
CONTACT:810-688-2282\, northbranchlibrary@northbranchlibrary.net
CREATED:20251007T194528Z
DESCRIPTION:Join us for play and a storytime featuring the tale of the thr
 ee little pigs and the big bad wolf!
LAST-MODIFIED:20251007T194536Z
LOCATION:North Branch Township Library
URL:https://northbranch.ploud.net/news-events/lib-cal/storytime-19
END:VEVENT
BEGIN:VTIMEZONE
TZID:US/Eastern
X-LIC-LOCATION:US/Eastern
BEGIN:DAYLIGHT
DTSTART:20250309T030000
TZNAME:EDT
TZOFFSETFROM:-0500
TZOFFSETTO:-0400
END:DAYLIGHT
END:VTIMEZONE
END:VCALENDAR
