BEGIN:VCALENDAR
VERSION:2.0
PRODID:-//Plone.org//NONSGML plone.app.event//EN
X-WR-TIMEZONE:US/Eastern
BEGIN:VEVENT
SUMMARY:Storytime
DTSTART;TZID=US/Eastern:20211012T103000
DTEND;TZID=US/Eastern:20211012T113000
DTSTAMP:20260420T054839Z
UID:e21d8bae686948278ac7806baf63f1ba@saas_stack_varnish:6080
ATTENDEE;CN="Preschoolers and caregivers";ROLE=REQ-PARTICIPANT:Preschooler
 s and caregivers
CONTACT:Arleen Brace\, 8106882282\, northbranchlibary@northbranchlibrary.n
 et
CREATED:20211007T181134Z
DESCRIPTION:Stories\, songs and crafts for preschoolers with Ms. Arleen.\n
 \nStorytime is held outside\, weather permitting.
LAST-MODIFIED:20211007T181139Z
LOCATION:NBTL
URL:https://northbranch.ploud.net/news-events/lib-cal/storytime-2
END:VEVENT
BEGIN:VTIMEZONE
TZID:US/Eastern
X-LIC-LOCATION:US/Eastern
BEGIN:DAYLIGHT
DTSTART:20210314T030000
TZNAME:EDT
TZOFFSETFROM:-0500
TZOFFSETTO:-0400
END:DAYLIGHT
END:VTIMEZONE
END:VCALENDAR
