BEGIN:VCALENDAR
VERSION:2.0
PRODID:-//Plone.org//NONSGML plone.app.event//EN
X-WR-TIMEZONE:US/Eastern
BEGIN:VEVENT
SUMMARY:Storytime
DTSTART;TZID=US/Eastern:20251104T103000
DTEND;TZID=US/Eastern:20251104T113000
DTSTAMP:20260419T183845Z
UID:5b60e791b36d433b941b0984ab4c7169@saas_stack_varnish:6080
ATTENDEE;CN="For children ages 3 to 5 and their guardians.";ROLE=REQ-PARTI
 CIPANT:For children ages 3 to 5 and their guardians.
CONTACT:810-688-2282\, northbranchlibrary@northbranchlibrary.net
CREATED:20251021T175349Z
DESCRIPTION:Join us for a fun fall themed storytime!
LAST-MODIFIED:20251021T180203Z
LOCATION:North Branch Township Library
URL:https://northbranch.ploud.net/news-events/lib-cal/storytime-20
END:VEVENT
BEGIN:VTIMEZONE
TZID:US/Eastern
X-LIC-LOCATION:US/Eastern
BEGIN:STANDARD
DTSTART:20251102T010000
TZNAME:EST
TZOFFSETFROM:-0400
TZOFFSETTO:-0500
END:STANDARD
END:VTIMEZONE
END:VCALENDAR
