BEGIN:VCALENDAR
VERSION:2.0
PRODID:-//Plone.org//NONSGML plone.app.event//EN
X-WR-TIMEZONE:US/Eastern
BEGIN:VEVENT
SUMMARY:Storytime
DTSTART;TZID=US/Eastern:20251118T103000
DTEND;TZID=US/Eastern:20251118T113000
DTSTAMP:20260419T183747Z
UID:fdd9c33a49a24656a5ca1c754ca3d1f7@saas_stack_varnish:6080
ATTENDEE;CN="For children ages 3-5 and their guardians";ROLE=REQ-PARTICIPA
 NT:For children ages 3-5 and their guardians
CONTACT:810-688-2282\, northbranchlibrary@northbranchlibrary.net
CREATED:20251108T151944Z
DESCRIPTION:Join us for a storytime about Smokey Bear and fire safety!
LAST-MODIFIED:20251108T151950Z
LOCATION:North Branch Township Library
URL:https://northbranch.ploud.net/news-events/lib-cal/storytime-21
END:VEVENT
BEGIN:VTIMEZONE
TZID:US/Eastern
X-LIC-LOCATION:US/Eastern
BEGIN:STANDARD
DTSTART:20251102T010000
TZNAME:EST
TZOFFSETFROM:-0400
TZOFFSETTO:-0500
END:STANDARD
END:VTIMEZONE
END:VCALENDAR
