BEGIN:VCALENDAR
VERSION:2.0
PRODID:-//Plone.org//NONSGML plone.app.event//EN
X-WR-TIMEZONE:US/Eastern
BEGIN:VEVENT
SUMMARY:Storytime
DTSTART;TZID=US/Eastern:20251102T103000
DTEND;TZID=US/Eastern:20251102T113000
DTSTAMP:20260419T183906Z
UID:b6d7004a148c45578fc2e573db533b66@saas_stack_varnish:6080
ATTENDEE;CN="For children ages 3-5 and their guardians.";ROLE=REQ-PARTICIP
 ANT:For children ages 3-5 and their guardians.
CONTACT:810-688-2282\, northbranchlibrary@northbranchlibrary.net
CREATED:20251118T175843Z
DESCRIPTION:Join us for a storytime and activities all about bears!
LAST-MODIFIED:20251118T175850Z
LOCATION:North Branch Township Library
URL:https://northbranch.ploud.net/news-events/lib-cal/storytime-22
END:VEVENT
BEGIN:VTIMEZONE
TZID:US/Eastern
X-LIC-LOCATION:US/Eastern
BEGIN:STANDARD
DTSTART:20251102T010000
TZNAME:EST
TZOFFSETFROM:-0400
TZOFFSETTO:-0500
END:STANDARD
END:VTIMEZONE
END:VCALENDAR
