BEGIN:VCALENDAR
VERSION:2.0
PRODID:-//Plone.org//NONSGML plone.app.event//EN
X-WR-TIMEZONE:US/Eastern
BEGIN:VEVENT
SUMMARY:Storytime
DTSTART;TZID=US/Eastern:20251216T103000
DTEND;TZID=US/Eastern:20251216T113000
DTSTAMP:20260419T221300Z
UID:195d9c75343a49d39201b28bea9eb9b7@saas_stack_varnish:6080
ATTENDEE;CN="For children ages 3-5 and their guardians.";ROLE=REQ-PARTICIP
 ANT:For children ages 3-5 and their guardians.
CONTACT:810-688-2282\, northbranchlibrary@northbranchlibrary.net
CREATED:20251202T204003Z
DESCRIPTION:Join us for a teddy bear picnic! Bring your teddy bears to pla
 y and listen to stories\, and take home a goody bag as well!
LAST-MODIFIED:20251202T204012Z
LOCATION:North Branch Township Library
URL:https://northbranch.ploud.net/news-events/lib-cal/storytime-23
END:VEVENT
BEGIN:VTIMEZONE
TZID:US/Eastern
X-LIC-LOCATION:US/Eastern
BEGIN:STANDARD
DTSTART:20251102T010000
TZNAME:EST
TZOFFSETFROM:-0400
TZOFFSETTO:-0500
END:STANDARD
END:VTIMEZONE
END:VCALENDAR
