BEGIN:VCALENDAR
VERSION:2.0
PRODID:-//Plone.org//NONSGML plone.app.event//EN
X-WR-TIMEZONE:US/Eastern
BEGIN:VEVENT
SUMMARY:Storytime
DTSTART;TZID=US/Eastern:20260106T103000
DTEND;TZID=US/Eastern:20260106T113000
DTSTAMP:20260419T221353Z
UID:131089fff0b74056b313d3098da6992c@saas_stack_varnish:6080
ATTENDEE;CN="For ages 3-5 and their guardians. First time attendees call t
 o sign up.";ROLE=REQ-PARTICIPANT:For ages 3-5 and their guardians. First t
 ime attendees call to sign up.
CONTACT:810-688-2282\, northbranchlibrary@northbranchlibrary.net
CREATED:20251218T172835Z
DESCRIPTION:Panda Bears\, Polar Bears and Penguins\, oh my! Join us for a 
 storytime featuring these 3 unique animals!
LAST-MODIFIED:20251218T172843Z
LOCATION:North Branch Township Library
URL:https://northbranch.ploud.net/news-events/lib-cal/storytime-24
END:VEVENT
BEGIN:VTIMEZONE
TZID:US/Eastern
X-LIC-LOCATION:US/Eastern
BEGIN:STANDARD
DTSTART:20251102T010000
TZNAME:EST
TZOFFSETFROM:-0400
TZOFFSETTO:-0500
END:STANDARD
END:VTIMEZONE
END:VCALENDAR
