BEGIN:VCALENDAR
VERSION:2.0
PRODID:-//Plone.org//NONSGML plone.app.event//EN
X-WR-TIMEZONE:US/Eastern
BEGIN:VEVENT
SUMMARY:Storytime
DTSTART;TZID=US/Eastern:20260120T103000
DTEND;TZID=US/Eastern:20260120T113000
DTSTAMP:20260419T203939Z
UID:00e66e3eed964e9aaaee8e501f5281fc@saas_stack_varnish:6080
ATTENDEE;CN="For ages 3-5 and their guardians";ROLE=REQ-PARTICIPANT:For ag
 es 3-5 and their guardians
CONTACT:810-688-2282\, northbranchlibrary@northbranchlibrary.net
CREATED:20260106T192324Z
LAST-MODIFIED:20260106T192332Z
LOCATION:North Branch Township Library
URL:https://northbranch.ploud.net/news-events/lib-cal/storytime-25
END:VEVENT
BEGIN:VTIMEZONE
TZID:US/Eastern
X-LIC-LOCATION:US/Eastern
BEGIN:STANDARD
DTSTART:20251102T010000
TZNAME:EST
TZOFFSETFROM:-0400
TZOFFSETTO:-0500
END:STANDARD
END:VTIMEZONE
END:VCALENDAR
