BEGIN:VCALENDAR
VERSION:2.0
PRODID:-//Plone.org//NONSGML plone.app.event//EN
X-WR-TIMEZONE:US/Eastern
BEGIN:VEVENT
SUMMARY:Storytime
DTSTART;TZID=US/Eastern:20260303T103000
DTEND;TZID=US/Eastern:20260303T113000
DTSTAMP:20260419T165117Z
UID:57b3cfc1af0343c1b59858cdb016ad35@saas_stack_varnish:6080
ATTENDEE;CN="For children ages 3-5 and their guardians";ROLE=REQ-PARTICIPA
 NT:For children ages 3-5 and their guardians
CONTACT:810-688-2282\, northbranchlibrary@northbranchlibrary.net
CREATED:20260219T171751Z
LAST-MODIFIED:20260219T172101Z
LOCATION:North Branch Township Library
URL:https://northbranch.ploud.net/news-events/lib-cal/storytime-26
END:VEVENT
BEGIN:VTIMEZONE
TZID:US/Eastern
X-LIC-LOCATION:US/Eastern
BEGIN:STANDARD
DTSTART:20251102T010000
TZNAME:EST
TZOFFSETFROM:-0400
TZOFFSETTO:-0500
END:STANDARD
END:VTIMEZONE
END:VCALENDAR
