BEGIN:VCALENDAR
VERSION:2.0
PRODID:-//Plone.org//NONSGML plone.app.event//EN
X-WR-TIMEZONE:US/Eastern
BEGIN:VEVENT
SUMMARY:Storytime
DTSTART;TZID=US/Eastern:20211026T103000
DTEND;TZID=US/Eastern:20211026T113000
DTSTAMP:20260420T054839Z
UID:4b084483c87f465ab2cc574b61f62b5a@saas_stack_varnish:6080
ATTENDEE;CN="Preschoolers and caregivers";ROLE=REQ-PARTICIPANT:Preschooler
 s and caregivers
CONTACT:Arleen Brace\, 8106882282\, northbranchlibary@northbranchlibrary.n
 et
CREATED:20211007T181342Z
DESCRIPTION:Stories\, songs and crafts for preschoolers with Ms. Arleen
LAST-MODIFIED:20211007T181349Z
LOCATION:NBTL
URL:https://northbranch.ploud.net/news-events/lib-cal/storytime-3
END:VEVENT
BEGIN:VTIMEZONE
TZID:US/Eastern
X-LIC-LOCATION:US/Eastern
BEGIN:DAYLIGHT
DTSTART:20210314T030000
TZNAME:EDT
TZOFFSETFROM:-0500
TZOFFSETTO:-0400
END:DAYLIGHT
END:VTIMEZONE
END:VCALENDAR
