BEGIN:VCALENDAR
VERSION:2.0
PRODID:-//Plone.org//NONSGML plone.app.event//EN
X-WR-TIMEZONE:US/Eastern
BEGIN:VEVENT
SUMMARY:Storytime
DTSTART;TZID=US/Eastern:20260505T103000
DTEND;TZID=US/Eastern:20260505T113000
DTSTAMP:20260422T120026Z
UID:b08eccfd59aa4c0bbfb973d3e7d9523c@saas_stack_varnish:6080
ATTENDEE;CN="For children ages 3-5 and their guardians.";ROLE=REQ-PARTICIP
 ANT:For children ages 3-5 and their guardians.
CONTACT:810-688-2282\, northbranchlibrary@northbranchlibrary.net
CREATED:20260421T174115Z
DESCRIPTION:Join us for the next storytime on May fifth at 10:30AM at the 
 North Branch Township Library hosted by Mrs. Thomas . The storytime is pet
  themed and we will have some real furry friends visiting! For children ag
 es three to five and their guardians.
LAST-MODIFIED:20260421T174131Z
LOCATION:North Branch Township Library
URL:https://northbranch.ploud.net/news-events/lib-cal/storytime-30
END:VEVENT
BEGIN:VTIMEZONE
TZID:US/Eastern
X-LIC-LOCATION:US/Eastern
BEGIN:DAYLIGHT
DTSTART:20260308T030000
TZNAME:EDT
TZOFFSETFROM:-0500
TZOFFSETTO:-0400
END:DAYLIGHT
END:VTIMEZONE
END:VCALENDAR
