BEGIN:VCALENDAR
VERSION:2.0
PRODID:-//Plone.org//NONSGML plone.app.event//EN
X-WR-TIMEZONE:US/Eastern
BEGIN:VEVENT
SUMMARY:Storytime
DTSTART;TZID=US/Eastern:20220104T103000
DTEND;TZID=US/Eastern:20220104T113000
DTSTAMP:20260420T041506Z
UID:f0c887aba0a1483883d42a6397401d91@saas_stack_varnish:6080
ATTENDEE;CN="children 3-5 years of age and their caregivers.";ROLE=REQ-PAR
 TICIPANT:children 3-5 years of age and their caregivers.
CONTACT:Arleen Brace\, 8106882282\, northbranchlibary@northbranchlibrary.n
 et
CREATED:20220114T182837Z
DESCRIPTION:Stories\, songs and crafts with Miss Arleen.  This program is 
 for children 3-5 years of age and their caregivers.
LAST-MODIFIED:20220114T182842Z
LOCATION:NBTL Meeting Room
URL:https://northbranch.ploud.net/news-events/lib-cal/storytime-4
END:VEVENT
BEGIN:VTIMEZONE
TZID:US/Eastern
X-LIC-LOCATION:US/Eastern
BEGIN:STANDARD
DTSTART:20211107T010000
TZNAME:EST
TZOFFSETFROM:-0400
TZOFFSETTO:-0500
END:STANDARD
END:VTIMEZONE
END:VCALENDAR
