BEGIN:VCALENDAR
VERSION:2.0
PRODID:-//Plone.org//NONSGML plone.app.event//EN
X-WR-TIMEZONE:US/Eastern
BEGIN:VEVENT
SUMMARY:Storytime
DTSTART;TZID=US/Eastern:20220329T103000
DTEND;TZID=US/Eastern:20220329T113000
DTSTAMP:20260420T024912Z
UID:13073cccda9e4f8d81de3de5be9570bb@saas_stack_varnish:6080
ATTENDEE;CN="Preschoolers and caregivers";ROLE=REQ-PARTICIPANT:Preschooler
 s and caregivers
CREATED:20220303T183807Z
DESCRIPTION:Storytime with Miss Arleen.  Stories\, games and crafts for pr
 eschoolers and their caregivers.
LAST-MODIFIED:20220303T183816Z
URL:https://northbranch.ploud.net/news-events/lib-cal/storytime-6/2022-03-
 29
END:VEVENT
BEGIN:VTIMEZONE
TZID:US/Eastern
X-LIC-LOCATION:US/Eastern
BEGIN:DAYLIGHT
DTSTART:20220313T030000
TZNAME:EDT
TZOFFSETFROM:-0500
TZOFFSETTO:-0400
END:DAYLIGHT
END:VTIMEZONE
END:VCALENDAR
