BEGIN:VCALENDAR
VERSION:2.0
PRODID:-//Plone.org//NONSGML plone.app.event//EN
X-WR-TIMEZONE:US/Eastern
BEGIN:VEVENT
SUMMARY:Storytime
DTSTART;TZID=US/Eastern:20220301T103000
DTEND;TZID=US/Eastern:20220301T113000
DTSTAMP:20260420T041551Z
UID:13073cccda9e4f8d81de3de5be9570bb@saas_stack_varnish:6080
RRULE:FREQ=WEEKLY;UNTIL=20220329T000000;BYDAY=TU
EXDATE;TZID=US/Eastern:20220308T000000,20220322T000000,20220405T000000,202
 20412T000000
ATTENDEE;CN="Preschoolers and caregivers";ROLE=REQ-PARTICIPANT:Preschooler
 s and caregivers
CREATED:20220303T183807Z
DESCRIPTION:Storytime with Miss Arleen.  Stories\, games and crafts for pr
 eschoolers and their caregivers.
LAST-MODIFIED:20220303T183816Z
URL:https://northbranch.ploud.net/news-events/lib-cal/storytime-6
END:VEVENT
BEGIN:VTIMEZONE
TZID:US/Eastern
X-LIC-LOCATION:US/Eastern
BEGIN:STANDARD
DTSTART:20211107T010000
TZNAME:EST
TZOFFSETFROM:-0400
TZOFFSETTO:-0500
END:STANDARD
END:VTIMEZONE
END:VCALENDAR
