BEGIN:VCALENDAR
VERSION:2.0
PRODID:-//Plone.org//NONSGML plone.app.event//EN
X-WR-TIMEZONE:US/Eastern
BEGIN:VEVENT
SUMMARY:Storytime
DTSTART;TZID=US/Eastern:20220426T103000
DTEND;TZID=US/Eastern:20220426T113000
DTSTAMP:20260420T024423Z
UID:0f8991a808b5495eabbd140b5107dc4e@saas_stack_varnish:6080
ATTENDEE;CN="preschoolers and caregivers";ROLE=REQ-PARTICIPANT:preschooler
 s and caregivers
CONTACT:Arleen Brace\, 8106882282\, northbranchlibary@northbranchlibrary.n
 et
CREATED:20220412T171845Z
DESCRIPTION:Stories\, songs and crafts for preschoolers with Miss Arleen
LAST-MODIFIED:20220412T171850Z
LOCATION:NBTL Meeting Room
URL:https://northbranch.ploud.net/news-events/lib-cal/storytime-7
END:VEVENT
BEGIN:VTIMEZONE
TZID:US/Eastern
X-LIC-LOCATION:US/Eastern
BEGIN:DAYLIGHT
DTSTART:20220313T030000
TZNAME:EDT
TZOFFSETFROM:-0500
TZOFFSETTO:-0400
END:DAYLIGHT
END:VTIMEZONE
END:VCALENDAR
