BEGIN:VCALENDAR
VERSION:2.0
PRODID:-//Plone.org//NONSGML plone.app.event//EN
X-WR-TIMEZONE:US/Eastern
BEGIN:VEVENT
SUMMARY:Storytime
DTSTART;TZID=US/Eastern:20220524T103000
DTEND;TZID=US/Eastern:20220524T113000
DTSTAMP:20260420T064827Z
UID:78d0f022fe894068b332c15ad48e1d95@saas_stack_varnish:6080
ATTENDEE;CN="Preschoolers and caregivers";ROLE=REQ-PARTICIPANT:Preschooler
 s and caregivers
CONTACT:Arleen Brace\, 810-688-2282\, northbranchlibary@northbranchlibrary
 .net
CREATED:20220504T173630Z
DESCRIPTION:stories\, songs and crafts for preschoolers with Miss Arleen
LAST-MODIFIED:20220504T173635Z
LOCATION:NBTL Meeting Room
URL:https://northbranch.ploud.net/news-events/lib-cal/storytime-8/2022-05-
 24
END:VEVENT
BEGIN:VTIMEZONE
TZID:US/Eastern
X-LIC-LOCATION:US/Eastern
BEGIN:DAYLIGHT
DTSTART:20220313T030000
TZNAME:EDT
TZOFFSETFROM:-0500
TZOFFSETTO:-0400
END:DAYLIGHT
END:VTIMEZONE
END:VCALENDAR
