BEGIN:VCALENDAR
VERSION:2.0
PRODID:-//Plone.org//NONSGML plone.app.event//EN
X-WR-TIMEZONE:US/Eastern
BEGIN:VEVENT
SUMMARY:Storytime
DTSTART;TZID=US/Eastern:20250107T103000
DTEND;TZID=US/Eastern:20250107T113000
DTSTAMP:20260419T200654Z
UID:e5d0c9a1824f4df9879d8e1f7350ffd4@saas_stack_varnish:6080
CREATED:20241219T184207Z
LAST-MODIFIED:20241219T184217Z
URL:https://northbranch.ploud.net/news-events/lib-cal/storytime-9
END:VEVENT
BEGIN:VTIMEZONE
TZID:US/Eastern
X-LIC-LOCATION:US/Eastern
BEGIN:STANDARD
DTSTART:20241103T010000
TZNAME:EST
TZOFFSETFROM:-0400
TZOFFSETTO:-0500
END:STANDARD
END:VTIMEZONE
END:VCALENDAR
