BEGIN:VCALENDAR
VERSION:2.0
PRODID:-//Plone.org//NONSGML plone.app.event//EN
X-WR-TIMEZONE:US/Eastern
BEGIN:VEVENT
SUMMARY:Storytime- Books and Bunnies
DTSTART;TZID=US/Eastern:20251007T103000
DTEND;TZID=US/Eastern:20251007T113000
DTSTAMP:20260419T184601Z
UID:f0ea02e7cd784ac1b20acbcb9d2ba066@saas_stack_varnish:6080
ATTENDEE;CN="For ages 3-5 and their guardians.";ROLE=REQ-PARTICIPANT:For a
 ges 3-5 and their guardians.
CONTACT:810-688-2282\, northbranchlibrary@northbranchlibrary.net
CREATED:20250930T164058Z
DESCRIPTION:Join us for storytime about bunnies and get to pet some real l
 ive rabbits!
LAST-MODIFIED:20250930T164106Z
LOCATION:North Branch Township Library
URL:https://northbranch.ploud.net/news-events/lib-cal/storytime-books-and-
 bunnies
END:VEVENT
BEGIN:VTIMEZONE
TZID:US/Eastern
X-LIC-LOCATION:US/Eastern
BEGIN:DAYLIGHT
DTSTART:20250309T030000
TZNAME:EDT
TZOFFSETFROM:-0500
TZOFFSETTO:-0400
END:DAYLIGHT
END:VTIMEZONE
END:VCALENDAR
