BEGIN:VCALENDAR
VERSION:2.0
PRODID:-//Plone.org//NONSGML plone.app.event//EN
X-WR-TIMEZONE:US/Eastern
BEGIN:VEVENT
SUMMARY:Storytime with Bunnies!
DTSTART;TZID=US/Eastern:20250408T103000
DTEND;TZID=US/Eastern:20250408T113000
DTSTAMP:20260419T184320Z
UID:495410f47e594f848c63919193b2c346@saas_stack_varnish:6080
ATTENDEE;CN="For children ages 3-5 and their guardians";ROLE=REQ-PARTICIPA
 NT:For children ages 3-5 and their guardians
CONTACT:810-688-2282\, northbranchlibrary@northbranchlibrary.net
CREATED:20250327T213317Z
DESCRIPTION:Join us for storytime with actual bunnies to pet and take pict
 ures with!
LAST-MODIFIED:20250327T213322Z
LOCATION:North Branch Township Library
URL:https://northbranch.ploud.net/news-events/lib-cal/storytime-with-bunni
 es
END:VEVENT
BEGIN:VTIMEZONE
TZID:US/Eastern
X-LIC-LOCATION:US/Eastern
BEGIN:DAYLIGHT
DTSTART:20250309T030000
TZNAME:EDT
TZOFFSETFROM:-0500
TZOFFSETTO:-0400
END:DAYLIGHT
END:VTIMEZONE
END:VCALENDAR
