BEGIN:VCALENDAR
VERSION:2.0
PRODID:-//Plone.org//NONSGML plone.app.event//EN
X-WR-TIMEZONE:US/Eastern
BEGIN:VEVENT
SUMMARY:Storytime with Mrs. Thomas
DTSTART;TZID=US/Eastern:20250225T103000
DTEND;TZID=US/Eastern:20250225T113000
DTSTAMP:20260419T201641Z
UID:fafeaa91f38a40bd86bee1eeff384561@saas_stack_varnish:6080
CREATED:20250217T203817Z
LAST-MODIFIED:20250217T203823Z
URL:https://northbranch.ploud.net/news-events/lib-cal/storytime-with-mrs-t
 homas
END:VEVENT
BEGIN:VTIMEZONE
TZID:US/Eastern
X-LIC-LOCATION:US/Eastern
BEGIN:STANDARD
DTSTART:20241103T010000
TZNAME:EST
TZOFFSETFROM:-0400
TZOFFSETTO:-0500
END:STANDARD
END:VTIMEZONE
END:VCALENDAR
