BEGIN:VCALENDAR
VERSION:2.0
PRODID:-//Plone.org//NONSGML plone.app.event//EN
X-WR-TIMEZONE:US/Eastern
BEGIN:VEVENT
SUMMARY:Storytime
DTSTART;TZID=US/Eastern:20191031T103000
DTEND;TZID=US/Eastern:20191031T113000
DTSTAMP:20260420T093538Z
UID:27f78f7d229f4b58b0e5c264399fbfd3@saas_stack_varnish:6080
ATTENDEE;CN="Preschoolers 3-5 years of age";ROLE=REQ-PARTICIPANT:Preschool
 ers 3-5 years of age
CONTACT:Arleen Brace\, 8106882282\, northbranchlibrary@northbranchlibrary.
 net
CREATED:20191015T191906Z
DESCRIPTION:Games\, songs\, crafts and stories with Miss Arleen.  For pres
 choolers and caregivers.
LAST-MODIFIED:20191015T192922Z
LOCATION:NBTL Meeting Room
URL:https://northbranch.ploud.net/news-events/lib-cal/storytime/2019-10-31
END:VEVENT
BEGIN:VTIMEZONE
TZID:US/Eastern
X-LIC-LOCATION:US/Eastern
BEGIN:DAYLIGHT
DTSTART:20190310T030000
TZNAME:EDT
TZOFFSETFROM:-0500
TZOFFSETTO:-0400
END:DAYLIGHT
END:VTIMEZONE
END:VCALENDAR
