BEGIN:VCALENDAR
VERSION:2.0
PRODID:-//Plone.org//NONSGML plone.app.event//EN
X-WR-TIMEZONE:US/Eastern
BEGIN:VEVENT
SUMMARY:Storywalk
DTSTART;TZID=US/Eastern:20210712T120000
DTEND;TZID=US/Eastern:20210717T120000
DTSTAMP:20260420T054827Z
UID:369b22b550814b09adad0fa43f9804b8@saas_stack_varnish:6080
CREATED:20210616T163557Z
DESCRIPTION:Stop at the library and walk through a story set up outside.  
 Help find out "Who's Tail/Tale it is".
LAST-MODIFIED:20210616T163602Z
URL:https://northbranch.ploud.net/news-events/lib-cal/storywalk
END:VEVENT
BEGIN:VTIMEZONE
TZID:US/Eastern
X-LIC-LOCATION:US/Eastern
BEGIN:DAYLIGHT
DTSTART:20210314T030000
TZNAME:EDT
TZOFFSETFROM:-0500
TZOFFSETTO:-0400
END:DAYLIGHT
END:VTIMEZONE
END:VCALENDAR
