BEGIN:VCALENDAR
VERSION:2.0
PRODID:-//Plone.org//NONSGML plone.app.event//EN
X-WR-TIMEZONE:US/Eastern
BEGIN:VEVENT
SUMMARY:Stuffed Animal Sleep Over
DTSTART;TZID=US/Eastern:20241101T160000
DTEND;TZID=US/Eastern:20241102T100000
DTSTAMP:20260420T012039Z
UID:fc318474a5e142d4b68d0e56bd8e8d14@saas_stack_varnish:6080
CONTACT:Denise Fink\, 810-688-2282\, northbranchlibrary@northbranchlibrary
 .net
CREATED:20241025T155312Z
DESCRIPTION:Bring your stuffed animal to the library for a fun sleep over.
   Drop them off on Friday night\, make a craft and then pick them up on Sa
 turday morning for a story\, snack and to see pictures of what they did ov
 ernight.
LAST-MODIFIED:20241025T155317Z
LOCATION:NBTL
URL:https://northbranch.ploud.net/news-events/lib-cal/stuffed-animal-sleep
 -over
END:VEVENT
BEGIN:VTIMEZONE
TZID:US/Eastern
X-LIC-LOCATION:US/Eastern
BEGIN:DAYLIGHT
DTSTART:20240310T030000
TZNAME:EDT
TZOFFSETFROM:-0500
TZOFFSETTO:-0400
END:DAYLIGHT
END:VTIMEZONE
END:VCALENDAR
