BEGIN:VCALENDAR
VERSION:2.0
PRODID:-//Plone.org//NONSGML plone.app.event//EN
X-WR-TIMEZONE:US/Eastern
BEGIN:VEVENT
SUMMARY:Summer Fling Science day
DTSTART;TZID=US/Eastern:20230712T113000
DTEND;TZID=US/Eastern:20230712T160000
DTSTAMP:20260419T232450Z
UID:096f297cf33b4771935b25483eef36c5@saas_stack_varnish:6080
ATTENDEE;CN="Children's program";ROLE=REQ-PARTICIPANT:Children's program
CONTACT:Christi Braxton\, 810-688-2282\, northbranchlibrary@northbranchlib
 rary.net
CREATED:20230616T201604Z
DESCRIPTION:Rain sticks\, Catapults and more.  Hands on activites
LAST-MODIFIED:20230616T201609Z
LOCATION:NBTL
URL:https://northbranch.ploud.net/news-events/lib-cal/summer-fling-science
 -day
END:VEVENT
BEGIN:VTIMEZONE
TZID:US/Eastern
X-LIC-LOCATION:US/Eastern
BEGIN:DAYLIGHT
DTSTART:20230312T030000
TZNAME:EDT
TZOFFSETFROM:-0500
TZOFFSETTO:-0400
END:DAYLIGHT
END:VTIMEZONE
END:VCALENDAR
