BEGIN:VCALENDAR
VERSION:2.0
PRODID:-//Plone.org//NONSGML plone.app.event//EN
X-WR-TIMEZONE:US/Eastern
BEGIN:VEVENT
SUMMARY:Summer Olympics
DTSTART;TZID=US/Eastern:20160719T103000
DTEND;TZID=US/Eastern:20160719T133000
DTSTAMP:20260420T220941Z
UID:5724937f50fc4d828025f9703ccd11ed@saas_stack_varnish:6080
CONTACT:Christi Mortell\, 810-688-2282\, northbranchlibrary@northbranchlib
 rary.net
CREATED:20160524T153355Z
DESCRIPTION:Help us celebrate the Summer Olympic Games by participating in
  our own Library Olympics.  This drop-in program will feature Olympic styl
 e events spread out both inside and outside of the library.
LAST-MODIFIED:20160524T153419Z
LOCATION:NBTL Meeting Room
URL:https://northbranch.ploud.net/news-events/lib-cal/summer-olympics
END:VEVENT
BEGIN:VTIMEZONE
TZID:US/Eastern
X-LIC-LOCATION:US/Eastern
BEGIN:DAYLIGHT
DTSTART:20160313T030000
TZNAME:EDT
TZOFFSETFROM:-0500
TZOFFSETTO:-0400
END:DAYLIGHT
END:VTIMEZONE
END:VCALENDAR
