BEGIN:VCALENDAR
VERSION:2.0
PRODID:-//Plone.org//NONSGML plone.app.event//EN
X-WR-TIMEZONE:US/Eastern
BEGIN:VEVENT
SUMMARY:SUMMER READING 4TH OF JULY TIE DYE CRAFT
DTSTART;TZID=US/Eastern:20250701T100000
DTEND;TZID=US/Eastern:20250703T190000
DTSTAMP:20260419T184515Z
UID:b999429b073f4f8792c7a83fc96ec14f@saas_stack_varnish:6080
ATTENDEE;CN="All ages";ROLE=REQ-PARTICIPANT:All ages
CONTACT:810-688-2282\, northbranchlibrary@northbranchlibrary.net
CREATED:20250701T205613Z
DESCRIPTION:Join us to make 4th of July themed tie dye! Bring your own ite
 ms to tie dye if possible\, otherwise we have some items while supplies la
 st.
LAST-MODIFIED:20250701T205620Z
LOCATION:North Branch Township Library
URL:https://northbranch.ploud.net/news-events/lib-cal/summer-reading-4th-o
 f-july-tie-dye-craft
END:VEVENT
BEGIN:VTIMEZONE
TZID:US/Eastern
X-LIC-LOCATION:US/Eastern
BEGIN:DAYLIGHT
DTSTART:20250309T030000
TZNAME:EDT
TZOFFSETFROM:-0500
TZOFFSETTO:-0400
END:DAYLIGHT
END:VTIMEZONE
END:VCALENDAR
