BEGIN:VCALENDAR
VERSION:2.0
PRODID:-//Plone.org//NONSGML plone.app.event//EN
X-WR-TIMEZONE:US/Eastern
BEGIN:VEVENT
SUMMARY:Summer Reading Begins
DTSTART;VALUE=DATE:20190617
DTEND;VALUE=DATE:20190618
DTSTAMP:20260420T155502Z
UID:44c9b2dd920d4bef8cb736e675abb2a3@saas_stack_varnish:6080
CREATED:20190605T151710Z
DESCRIPTION:A Universe of Stories begins our Summer Reading Program.
LAST-MODIFIED:20190605T151715Z
URL:https://northbranch.ploud.net/news-events/lib-cal/summer-reading-begin
 s-1
END:VEVENT
END:VCALENDAR
