BEGIN:VCALENDAR
VERSION:2.0
PRODID:-//Plone.org//NONSGML plone.app.event//EN
X-WR-TIMEZONE:US/Eastern
BEGIN:VEVENT
SUMMARY:Summer Reading Begins
DTSTART;TZID=US/Eastern:20210614T120000
DTEND;TZID=US/Eastern:20210614T130000
DTSTAMP:20260420T121549Z
UID:956d2da532b64772b94219d9ab73758c@saas_stack_varnish:6080
CREATED:20210616T162609Z
DESCRIPTION:SR runs 6/14-7/31.  Pick up a weekly craft\, attend programs\,
  earn badges and be entered into the grand prize drawing for completing yo
 ur reading log
LAST-MODIFIED:20210616T162614Z
URL:https://northbranch.ploud.net/news-events/lib-cal/summer-reading-begin
 s-2
END:VEVENT
BEGIN:VTIMEZONE
TZID:US/Eastern
X-LIC-LOCATION:US/Eastern
BEGIN:DAYLIGHT
DTSTART:20210314T030000
TZNAME:EDT
TZOFFSETFROM:-0500
TZOFFSETTO:-0400
END:DAYLIGHT
END:VTIMEZONE
END:VCALENDAR
