BEGIN:VCALENDAR
VERSION:2.0
PRODID:-//Plone.org//NONSGML plone.app.event//EN
X-WR-TIMEZONE:US/Eastern
BEGIN:VEVENT
SUMMARY:Summer Reading Begins
DTSTART;TZID=US/Eastern:20230612T114500
DTEND;TZID=US/Eastern:20230612T124500
DTSTAMP:20260419T232346Z
UID:e0b8fca1ad5a476d8906dc4b741743ef@saas_stack_varnish:6080
CREATED:20230616T190734Z
DESCRIPTION:Come into the library and sign up for summer reading
LAST-MODIFIED:20230616T190739Z
URL:https://northbranch.ploud.net/news-events/lib-cal/summer-reading-begin
 s-3
END:VEVENT
BEGIN:VTIMEZONE
TZID:US/Eastern
X-LIC-LOCATION:US/Eastern
BEGIN:DAYLIGHT
DTSTART:20230312T030000
TZNAME:EDT
TZOFFSETFROM:-0500
TZOFFSETTO:-0400
END:DAYLIGHT
END:VTIMEZONE
END:VCALENDAR
