BEGIN:VCALENDAR
VERSION:2.0
PRODID:-//Plone.org//NONSGML plone.app.event//EN
X-WR-TIMEZONE:US/Eastern
BEGIN:VEVENT
SUMMARY:summer reading begins
DTSTART;TZID=US/Eastern:20250617T100000
DTEND;TZID=US/Eastern:20250617T170000
DTSTAMP:20260419T183910Z
UID:40ac7dba8fe3476fb00fac19ca7653bb@saas_stack_varnish:6080
ATTENDEE;CN="All ages welcome!";ROLE=REQ-PARTICIPANT:All ages welcome!
CONTACT:810-688-2282\, northbranchlibrary@northbranchlibrary.net
CREATED:20250610T191744Z
DESCRIPTION:Come in a sign up for summer reading from June 17 to July 31st
 !
LAST-MODIFIED:20250610T191754Z
LOCATION:North Branch Township Library
URL:https://northbranch.ploud.net/news-events/lib-cal/summer-reading-begin
 s-4
END:VEVENT
BEGIN:VTIMEZONE
TZID:US/Eastern
X-LIC-LOCATION:US/Eastern
BEGIN:DAYLIGHT
DTSTART:20250309T030000
TZNAME:EDT
TZOFFSETFROM:-0500
TZOFFSETTO:-0400
END:DAYLIGHT
END:VTIMEZONE
END:VCALENDAR
