BEGIN:VCALENDAR
VERSION:2.0
PRODID:-//Plone.org//NONSGML plone.app.event//EN
X-WR-TIMEZONE:US/Eastern
BEGIN:VEVENT
SUMMARY:Summer Reading Begins
DTSTART;TZID=US/Eastern:20180618T100000
DTEND;TZID=US/Eastern:20180618T170000
DTSTAMP:20260420T204159Z
UID:beb302a1e2774cf18b6ede6416516cf4@saas_stack_varnish:6080
CONTACT:Kelli Lovasz\, 8106882282\, northbranchlibrary@northbranchlibrary.
 net
CREATED:20180605T191247Z
DESCRIPTION:Join us for the kick-off to our Summer Reading Program.  Sign 
 up for our book badger program\, do a make & take craft and hear a VIP rea
 der.
LAST-MODIFIED:20180605T191251Z
URL:https://northbranch.ploud.net/news-events/lib-cal/summer-reading-begin
 s
END:VEVENT
BEGIN:VTIMEZONE
TZID:US/Eastern
X-LIC-LOCATION:US/Eastern
BEGIN:DAYLIGHT
DTSTART:20180311T030000
TZNAME:EDT
TZOFFSETFROM:-0500
TZOFFSETTO:-0400
END:DAYLIGHT
END:VTIMEZONE
END:VCALENDAR
