BEGIN:VCALENDAR
VERSION:2.0
PRODID:-//Plone.org//NONSGML plone.app.event//EN
X-WR-TIMEZONE:US/Eastern
BEGIN:VEVENT
SUMMARY:Summer Reading Ends
DTSTART;TZID=US/Eastern:20180731T110000
DTEND;TZID=US/Eastern:20180731T190000
DTSTAMP:20260420T155326Z
UID:28f03752d18f4086babe83571fc5af7e@saas_stack_varnish:6080
CREATED:20180605T192913Z
DESCRIPTION:This is the last day to collect badges in our Summer Reading P
 rogram.
LAST-MODIFIED:20180605T192917Z
URL:https://northbranch.ploud.net/news-events/lib-cal/summer-reading-ends-
 1
END:VEVENT
BEGIN:VTIMEZONE
TZID:US/Eastern
X-LIC-LOCATION:US/Eastern
BEGIN:DAYLIGHT
DTSTART:20180311T030000
TZNAME:EDT
TZOFFSETFROM:-0500
TZOFFSETTO:-0400
END:DAYLIGHT
END:VTIMEZONE
END:VCALENDAR
