BEGIN:VCALENDAR
VERSION:2.0
PRODID:-//Plone.org//NONSGML plone.app.event//EN
X-WR-TIMEZONE:US/Eastern
BEGIN:VEVENT
SUMMARY:Summer Reading Ends
DTSTART;VALUE=DATE:20190731
DTEND;VALUE=DATE:20190801
DTSTAMP:20260420T110857Z
UID:9cea80dba78248288b8a4bba4c253b28@saas_stack_varnish:6080
CREATED:20190605T162703Z
DESCRIPTION:July 31st marks the end of our official Summer Reading Program
 .  All Bingo cards and projects must be turned in by 7:00 pm to be eligibl
 e for prizes.
LAST-MODIFIED:20190605T162821Z
URL:https://northbranch.ploud.net/news-events/lib-cal/summer-reading-ends-
 2
END:VEVENT
END:VCALENDAR
