BEGIN:VCALENDAR
VERSION:2.0
PRODID:-//Plone.org//NONSGML plone.app.event//EN
X-WR-TIMEZONE:US/Eastern
BEGIN:VEVENT
SUMMARY:Summer Reading Ends
DTSTART;TZID=US/Eastern:20210731T170000
DTEND;TZID=US/Eastern:20210731T180000
DTSTAMP:20260420T054919Z
UID:88ea2554e8e24461ad8d8ea1c27e3bdd@saas_stack_varnish:6080
CREATED:20210616T162711Z
DESCRIPTION:This is the last day to turn in your reading log to be entered
  into the grand prize drawing.
LAST-MODIFIED:20210616T162716Z
URL:https://northbranch.ploud.net/news-events/lib-cal/summer-reading-ends-
 3
END:VEVENT
BEGIN:VTIMEZONE
TZID:US/Eastern
X-LIC-LOCATION:US/Eastern
BEGIN:DAYLIGHT
DTSTART:20210314T030000
TZNAME:EDT
TZOFFSETFROM:-0500
TZOFFSETTO:-0400
END:DAYLIGHT
END:VTIMEZONE
END:VCALENDAR
