BEGIN:VCALENDAR
VERSION:2.0
PRODID:-//Plone.org//NONSGML plone.app.event//EN
X-WR-TIMEZONE:US/Eastern
BEGIN:VEVENT
SUMMARY:Summer Reading Ends
DTSTART;TZID=US/Eastern:20230731T100000
DTEND;TZID=US/Eastern:20230731T163000
DTSTAMP:20260419T214549Z
UID:760847964f60459e8b61b622c88bfebb@saas_stack_varnish:6080
CREATED:20230616T202643Z
LAST-MODIFIED:20230616T202652Z
URL:https://northbranch.ploud.net/news-events/lib-cal/summer-reading-ends-
 4
END:VEVENT
BEGIN:VTIMEZONE
TZID:US/Eastern
X-LIC-LOCATION:US/Eastern
BEGIN:DAYLIGHT
DTSTART:20230312T030000
TZNAME:EDT
TZOFFSETFROM:-0500
TZOFFSETTO:-0400
END:DAYLIGHT
END:VTIMEZONE
END:VCALENDAR
