BEGIN:VCALENDAR
VERSION:2.0
PRODID:-//Plone.org//NONSGML plone.app.event//EN
X-WR-TIMEZONE:US/Eastern
BEGIN:VEVENT
SUMMARY:Summer Reading Ends
DTSTART;TZID=US/Eastern:20160730T100000
DTEND;TZID=US/Eastern:20160730T140000
DTSTAMP:20260420T220940Z
UID:4404f95c4f5b4effb1068d1fd1faea6c@saas_stack_varnish:6080
CREATED:20160415T182202Z
DESCRIPTION:This is the last day to collect badges or turn in slips for su
 mmer reading.  Programs will continue through the rest of the summer.
LAST-MODIFIED:20160415T182206Z
URL:https://northbranch.ploud.net/news-events/lib-cal/summer-reading-ends
END:VEVENT
BEGIN:VTIMEZONE
TZID:US/Eastern
X-LIC-LOCATION:US/Eastern
BEGIN:DAYLIGHT
DTSTART:20160313T030000
TZNAME:EDT
TZOFFSETFROM:-0500
TZOFFSETTO:-0400
END:DAYLIGHT
END:VTIMEZONE
END:VCALENDAR
