BEGIN:VCALENDAR
VERSION:2.0
PRODID:-//Plone.org//NONSGML plone.app.event//EN
X-WR-TIMEZONE:US/Eastern
BEGIN:VEVENT
SUMMARY:Summer Reading Kaleidoscope craft
DTSTART;TZID=US/Eastern:20250729T100000
DTEND;TZID=US/Eastern:20250803T140000
DTSTAMP:20260419T233919Z
UID:380afcc69402415d86f60dd8ad02b7e4@saas_stack_varnish:6080
CONTACT:810-688-2282\, northbranchlibrary@northbranchlibrary.net
CREATED:20250619T174517Z
DESCRIPTION:Come in and use your creativity to make this groovy craft!
LAST-MODIFIED:20250703T184928Z
LOCATION:North Branch Township Library
URL:https://northbranch.ploud.net/news-events/lib-cal/summer-reading-kalei
 doscope-craft
END:VEVENT
BEGIN:VTIMEZONE
TZID:US/Eastern
X-LIC-LOCATION:US/Eastern
BEGIN:DAYLIGHT
DTSTART:20250309T030000
TZNAME:EDT
TZOFFSETFROM:-0500
TZOFFSETTO:-0400
END:DAYLIGHT
END:VTIMEZONE
END:VCALENDAR
