BEGIN:VCALENDAR
VERSION:2.0
PRODID:-//Plone.org//NONSGML plone.app.event//EN
X-WR-TIMEZONE:US/Eastern
BEGIN:VEVENT
SUMMARY:Summer Reading Kite Craft
DTSTART;TZID=US/Eastern:20250722T100000
DTEND;TZID=US/Eastern:20250726T140000
DTSTAMP:20260419T221418Z
UID:666eb42a85d84b50ab892b4e17214d54@saas_stack_varnish:6080
ATTENDEE;CN="All welcome";ROLE=REQ-PARTICIPANT:All welcome
CONTACT:810-688-2282\, northbranchlibrary@northbranchlibrary.net
CREATED:20250717T173231Z
DESCRIPTION:Come in to make and decorate your own mini kite!
LAST-MODIFIED:20250717T173242Z
LOCATION:North Branch Township Library
URL:https://northbranch.ploud.net/news-events/lib-cal/summer-reading-kite-
 craft
END:VEVENT
BEGIN:VTIMEZONE
TZID:US/Eastern
X-LIC-LOCATION:US/Eastern
BEGIN:DAYLIGHT
DTSTART:20250309T030000
TZNAME:EDT
TZOFFSETFROM:-0500
TZOFFSETTO:-0400
END:DAYLIGHT
END:VTIMEZONE
END:VCALENDAR
