BEGIN:VCALENDAR
VERSION:2.0
PRODID:-//Plone.org//NONSGML plone.app.event//EN
X-WR-TIMEZONE:US/Eastern
BEGIN:VEVENT
SUMMARY:Summer Reading Lighthouse Craft
DTSTART;TZID=US/Eastern:20250715T100000
DTEND;TZID=US/Eastern:20250719T140000
DTSTAMP:20260419T183957Z
UID:fc23420ac81d4ac1901e2fdb1916e410@saas_stack_varnish:6080
CONTACT:810-688-2282\, northbranchlibrary@northbranchlibrary.net
CREATED:20250612T170026Z
DESCRIPTION:Come in and make a lighthouse that has a real working light!
LAST-MODIFIED:20250612T170035Z
LOCATION:North Branch Township Library
URL:https://northbranch.ploud.net/news-events/lib-cal/summer-reading-light
 house-craft
END:VEVENT
BEGIN:VTIMEZONE
TZID:US/Eastern
X-LIC-LOCATION:US/Eastern
BEGIN:DAYLIGHT
DTSTART:20250309T030000
TZNAME:EDT
TZOFFSETFROM:-0500
TZOFFSETTO:-0400
END:DAYLIGHT
END:VTIMEZONE
END:VCALENDAR
