BEGIN:VCALENDAR
VERSION:2.0
PRODID:-//Plone.org//NONSGML plone.app.event//EN
X-WR-TIMEZONE:US/Eastern
BEGIN:VEVENT
SUMMARY:Summer Reading Mask Craft Due Date
DTSTART;TZID=US/Eastern:20250726T100000
DTEND;TZID=US/Eastern:20250726T140000
DTSTAMP:20260419T221535Z
UID:00b9a3651a4b441c9978dd2232983178@saas_stack_varnish:6080
CONTACT:810-688-2282\, northbranchlibrary@northbranchlibrary.net
CREATED:20250610T203012Z
DESCRIPTION:Drop your completed cardboard mask off at the library by July 
 26th with your name\, age\, and phone number on the back to be entered to 
 win a prize!
LAST-MODIFIED:20250610T203020Z
LOCATION:North Branch Township Library
URL:https://northbranch.ploud.net/news-events/lib-cal/summer-reading-mask-
 craft-due-date
END:VEVENT
BEGIN:VTIMEZONE
TZID:US/Eastern
X-LIC-LOCATION:US/Eastern
BEGIN:DAYLIGHT
DTSTART:20250309T030000
TZNAME:EDT
TZOFFSETFROM:-0500
TZOFFSETTO:-0400
END:DAYLIGHT
END:VTIMEZONE
END:VCALENDAR
