BEGIN:VCALENDAR
VERSION:2.0
PRODID:-//Plone.org//NONSGML plone.app.event//EN
X-WR-TIMEZONE:US/Eastern
BEGIN:VEVENT
SUMMARY:SUMMER READING MASK CRAFT STARTS
DTSTART;TZID=US/Eastern:20250617T100000
DTEND;TZID=US/Eastern:20250617T170000
DTSTAMP:20260419T184320Z
UID:341c1671e3954f67b7e3fd92aab24475@saas_stack_varnish:6080
CONTACT:810-688-2282\, northbranchlibrary@northbranchlibrary.net
CREATED:20250610T202523Z
DESCRIPTION:Come in and get your kit to make a cardboard mask! Use your cr
 eativity and whatever materials you want to decorate it! Bring your mask b
 ack into the library by July 26th with your name\, age and phone number on
  the back and be entered to win a prize!
LAST-MODIFIED:20250610T202532Z
LOCATION:North Branch Township Library
URL:https://northbranch.ploud.net/news-events/lib-cal/summer-reading-mask-
 craft-starts
END:VEVENT
BEGIN:VTIMEZONE
TZID:US/Eastern
X-LIC-LOCATION:US/Eastern
BEGIN:DAYLIGHT
DTSTART:20250309T030000
TZNAME:EDT
TZOFFSETFROM:-0500
TZOFFSETTO:-0400
END:DAYLIGHT
END:VTIMEZONE
END:VCALENDAR
