BEGIN:VCALENDAR
VERSION:2.0
PRODID:-//Plone.org//NONSGML plone.app.event//EN
X-WR-TIMEZONE:US/Eastern
BEGIN:VEVENT
SUMMARY:Summer Reading Program Begins
DTSTART;TZID=US/Eastern:20160620T100000
DTEND;TZID=US/Eastern:20160620T110000
DTSTAMP:20260420T201610Z
UID:c68fc2d9701b47bf95087cd8ed595318@saas_stack_varnish:6080
ATTENDEE;CN="All Ages";ROLE=REQ-PARTICIPANT:All Ages
CONTACT:Kelli Lovasz\, 810-688-2282\, northbranchlibrary@northbranchlibrar
 y.net
CREATED:20160324T175716Z
DESCRIPTION:Book Badgers are Back!  This year we will once again be having
  our badge program.  Earn badges by reading books\, participating in activ
 ities\, sharing knowledge and enjoying your library.  We have programs for
  all ages.
LAST-MODIFIED:20160324T175720Z
LOCATION:NBTL
URL:https://northbranch.ploud.net/news-events/lib-cal/summer-reading-progr
 am-begins
END:VEVENT
BEGIN:VTIMEZONE
TZID:US/Eastern
X-LIC-LOCATION:US/Eastern
BEGIN:DAYLIGHT
DTSTART:20160313T030000
TZNAME:EDT
TZOFFSETFROM:-0500
TZOFFSETTO:-0400
END:DAYLIGHT
END:VTIMEZONE
END:VCALENDAR
