BEGIN:VCALENDAR
VERSION:2.0
PRODID:-//Plone.org//NONSGML plone.app.event//EN
X-WR-TIMEZONE:US/Eastern
BEGIN:VEVENT
SUMMARY:Summer Reading Rock Turtle Craft
DTSTART;TZID=US/Eastern:20250624T100000
DTEND;TZID=US/Eastern:20250628T140000
DTSTAMP:20260419T184233Z
UID:9f0c1f1734124292b9e95b3f4329326f@saas_stack_varnish:6080
CONTACT:810-688-2282\, northbranchlibrary@northbranchlibrary.net
CREATED:20250610T202716Z
DESCRIPTION:Come in to make a cute pet rock turtle of your very own!
LAST-MODIFIED:20250610T202724Z
LOCATION:North Branch Township Library
URL:https://northbranch.ploud.net/news-events/lib-cal/summer-reading-rock-
 turtle-craft
END:VEVENT
BEGIN:VTIMEZONE
TZID:US/Eastern
X-LIC-LOCATION:US/Eastern
BEGIN:DAYLIGHT
DTSTART:20250309T030000
TZNAME:EDT
TZOFFSETFROM:-0500
TZOFFSETTO:-0400
END:DAYLIGHT
END:VTIMEZONE
END:VCALENDAR
