BEGIN:VCALENDAR
VERSION:2.0
PRODID:-//Plone.org//NONSGML plone.app.event//EN
X-WR-TIMEZONE:US/Eastern
BEGIN:VEVENT
SUMMARY:Summer Reading Starts
DTSTART;TZID=US/Eastern:20170612T100000
DTEND;TZID=US/Eastern:20170612T170000
DTSTAMP:20260422T120551Z
UID:74d1530e84344cb4beb14120b7292ab9@saas_stack_varnish:6080
CREATED:20170515T185409Z
DESCRIPTION:Summer Reading Programs for all ages.  Sign up for our Book Ba
 dger Program and begin earning badges.
LAST-MODIFIED:20170515T185414Z
URL:https://northbranch.ploud.net/news-events/lib-cal/summer-reading-start
 s
END:VEVENT
BEGIN:VTIMEZONE
TZID:US/Eastern
X-LIC-LOCATION:US/Eastern
BEGIN:DAYLIGHT
DTSTART:20170312T030000
TZNAME:EDT
TZOFFSETFROM:-0500
TZOFFSETTO:-0400
END:DAYLIGHT
END:VTIMEZONE
END:VCALENDAR
