BEGIN:VCALENDAR
VERSION:2.0
PRODID:-//Plone.org//NONSGML plone.app.event//EN
X-WR-TIMEZONE:US/Eastern
BEGIN:VEVENT
SUMMARY:Summer Reading Whirligig Craft
DTSTART;TZID=US/Eastern:20250708T100000
DTEND;TZID=US/Eastern:20250712T140000
DTSTAMP:20260419T184356Z
UID:0557b9ec9bc44f65b374bc9973812257@saas_stack_varnish:6080
CONTACT:810-688-2282\, northbranchlibrary@northbranchlibrary.net
CREATED:20250703T181158Z
DESCRIPTION:Come make and decorate a fun spinning toy to play with this su
 mmer!
LAST-MODIFIED:20250703T181206Z
LOCATION:North Branch Township Library
URL:https://northbranch.ploud.net/news-events/lib-cal/summer-reading-whirl
 igig-craft
END:VEVENT
BEGIN:VTIMEZONE
TZID:US/Eastern
X-LIC-LOCATION:US/Eastern
BEGIN:DAYLIGHT
DTSTART:20250309T030000
TZNAME:EDT
TZOFFSETFROM:-0500
TZOFFSETTO:-0400
END:DAYLIGHT
END:VTIMEZONE
END:VCALENDAR
