BEGIN:VCALENDAR
VERSION:2.0
PRODID:-//Plone.org//NONSGML plone.app.event//EN
X-WR-TIMEZONE:US/Eastern
BEGIN:VEVENT
SUMMARY:Super Science Day
DTSTART;TZID=US/Eastern:20160707T110000
DTEND;TZID=US/Eastern:20160707T130000
DTSTAMP:20260420T201702Z
UID:8a2c8029cb2a4ac79ec8ee3ad7eb939a@saas_stack_varnish:6080
ATTENDEE;CN="This is a children's program.";ROLE=REQ-PARTICIPANT:This is a
  children's program.
CONTACT:Kelli Lovasz\, 810-688-2282\, northbranchlibrary@northbranchlibrar
 y.net
CREATED:20160524T152358Z
DESCRIPTION:Science stations and experiments will be set up throughout the
  library for hands on science fun.  This is a drop in program.  Participan
 ts can come in anytime between the hours of 11:00 am and 1:00 pm to explor
 e the fun.
LAST-MODIFIED:20160524T152403Z
LOCATION:NBTL
URL:https://northbranch.ploud.net/news-events/lib-cal/super-science-day
END:VEVENT
BEGIN:VTIMEZONE
TZID:US/Eastern
X-LIC-LOCATION:US/Eastern
BEGIN:DAYLIGHT
DTSTART:20160313T030000
TZNAME:EDT
TZOFFSETFROM:-0500
TZOFFSETTO:-0400
END:DAYLIGHT
END:VTIMEZONE
END:VCALENDAR
