BEGIN:VCALENDAR
VERSION:2.0
PRODID:-//Plone.org//NONSGML plone.app.event//EN
X-WR-TIMEZONE:US/Eastern
BEGIN:VEVENT
SUMMARY:Sweater Mitten and Scarf Class
DTSTART;TZID=US/Eastern:20151203T103000
DTEND;TZID=US/Eastern:20151203T123000
DTSTAMP:20260420T164434Z
UID:281042c6d8fe471f9edc7a38b6aae3db@saas_stack_varnish:6080
CONTACT:Christi Mortell\, 810-688-2282\, northbranchlibrary@northbranchlib
 rary.net
CREATED:20151112T164940Z
DESCRIPTION:This popular class will teach you how to make mittens out of o
 ld sweaters and arm knit scarves.  Please call the library for a supply li
 st and to sign up.
LAST-MODIFIED:20151112T164946Z
LOCATION:NBTL Meeting Room
URL:https://northbranch.ploud.net/news-events/lib-cal/sweater-mitten-and-s
 carf-class
END:VEVENT
BEGIN:VTIMEZONE
TZID:US/Eastern
X-LIC-LOCATION:US/Eastern
BEGIN:STANDARD
DTSTART:20151101T010000
TZNAME:EST
TZOFFSETFROM:-0400
TZOFFSETTO:-0500
END:STANDARD
END:VTIMEZONE
END:VCALENDAR
