BEGIN:VCALENDAR
VERSION:2.0
PRODID:-//Plone.org//NONSGML plone.app.event//EN
X-WR-TIMEZONE:US/Eastern
BEGIN:VEVENT
SUMMARY:Teas\, Tinctures and Oils
DTSTART;TZID=US/Eastern:20240515T180000
DTEND;TZID=US/Eastern:20240515T190000
DTSTAMP:20260420T013051Z
UID:ab9d057788174d50a4fc0e629b13098f@saas_stack_varnish:6080
CONTACT:Kelli Lovasz\, 810-688-2282\, northbranchlibrary@northbranchlibrar
 y.net
CREATED:20240404T220847Z
DESCRIPTION:Bevin Cohen presents on using herbs and plants for making teas
 \, oils\, salves etc.
LAST-MODIFIED:20240404T220854Z
LOCATION:NBTL Meeting Room
URL:https://northbranch.ploud.net/news-events/lib-cal/teas-tinctures-and-o
 ils
END:VEVENT
BEGIN:VTIMEZONE
TZID:US/Eastern
X-LIC-LOCATION:US/Eastern
BEGIN:DAYLIGHT
DTSTART:20240310T030000
TZNAME:EDT
TZOFFSETFROM:-0500
TZOFFSETTO:-0400
END:DAYLIGHT
END:VTIMEZONE
END:VCALENDAR
