BEGIN:VCALENDAR
VERSION:2.0
PRODID:-//Plone.org//NONSGML plone.app.event//EN
X-WR-TIMEZONE:US/Eastern
BEGIN:VEVENT
SUMMARY:Teelightful Designs (crafternoon)
DTSTART;TZID=US/Eastern:20191024T163000
DTEND;TZID=US/Eastern:20191024T180000
DTSTAMP:20260420T093538Z
UID:b0cd80c6afd84b2eac811675b613f671@saas_stack_varnish:6080
ATTENDEE;CN="Tweens, teens and adults";ROLE=REQ-PARTICIPANT:Tweens, teens 
 and adults
CONTACT:Kelli Lovasz\, 8106882282\, northbranchlibrary@northbranchlibrary.
 net
CREATED:20191015T193515Z
DESCRIPTION:Karen Bonnici will be teaching us to upcycle old T-shirts into
  unique and fun designs.  Bags\, scarfs and jewelry will be some of the th
 ings you can make.  This is a great program for ages tween-adult.
LAST-MODIFIED:20191015T194025Z
LOCATION:NBTL Meeting Room
URL:https://northbranch.ploud.net/news-events/lib-cal/teelightful-designs-
 crafternoon
END:VEVENT
BEGIN:VTIMEZONE
TZID:US/Eastern
X-LIC-LOCATION:US/Eastern
BEGIN:DAYLIGHT
DTSTART:20190310T030000
TZNAME:EDT
TZOFFSETFROM:-0500
TZOFFSETTO:-0400
END:DAYLIGHT
END:VTIMEZONE
END:VCALENDAR
