BEGIN:VCALENDAR
VERSION:2.0
PRODID:-//Plone.org//NONSGML plone.app.event//EN
X-WR-TIMEZONE:US/Eastern
BEGIN:VEVENT
SUMMARY:Thanksgiving Storytime
DTSTART;TZID=US/Eastern:20211123T103000
DTEND;TZID=US/Eastern:20211123T113000
DTSTAMP:20260420T054957Z
UID:7607c6e1cb5347fa9a721f4485c6ba83@saas_stack_varnish:6080
ATTENDEE;CN="preschoolers and caregivers";ROLE=REQ-PARTICIPANT:preschooler
 s and caregivers
CONTACT:Arleen Brace\, 810-688-2282\, northbranchlibary@northbranchlibrary
 .net
CREATED:20211109T185925Z
DESCRIPTION:Thanksgiving themed storytime .  Stories\, songs and crafts fo
 r preschoolers
LAST-MODIFIED:20211109T185930Z
LOCATION:NBTL Meeting Room
URL:https://northbranch.ploud.net/news-events/lib-cal/thanksgiving-storyti
 me
END:VEVENT
BEGIN:VTIMEZONE
TZID:US/Eastern
X-LIC-LOCATION:US/Eastern
BEGIN:STANDARD
DTSTART:20211107T010000
TZNAME:EST
TZOFFSETFROM:-0400
TZOFFSETTO:-0500
END:STANDARD
END:VTIMEZONE
END:VCALENDAR
